BEGIN:VCALENDAR
VERSION:2.0
PRODID:-//Kreation Avenue Academy - ECPv6.15.20//NONSGML v1.0//EN
CALSCALE:GREGORIAN
METHOD:PUBLISH
X-ORIGINAL-URL:https://academy.kreationavenue.com
X-WR-CALDESC:Events for Kreation Avenue Academy
REFRESH-INTERVAL;VALUE=DURATION:PT1H
X-Robots-Tag:noindex
X-PUBLISHED-TTL:PT1H
BEGIN:VTIMEZONE
TZID:America/New_York
BEGIN:DAYLIGHT
TZOFFSETFROM:-0500
TZOFFSETTO:-0400
TZNAME:EDT
DTSTART:20240310T070000
END:DAYLIGHT
BEGIN:STANDARD
TZOFFSETFROM:-0400
TZOFFSETTO:-0500
TZNAME:EST
DTSTART:20241103T060000
END:STANDARD
BEGIN:DAYLIGHT
TZOFFSETFROM:-0500
TZOFFSETTO:-0400
TZNAME:EDT
DTSTART:20250309T070000
END:DAYLIGHT
BEGIN:STANDARD
TZOFFSETFROM:-0400
TZOFFSETTO:-0500
TZNAME:EST
DTSTART:20251102T060000
END:STANDARD
BEGIN:DAYLIGHT
TZOFFSETFROM:-0500
TZOFFSETTO:-0400
TZNAME:EDT
DTSTART:20260308T070000
END:DAYLIGHT
BEGIN:STANDARD
TZOFFSETFROM:-0400
TZOFFSETTO:-0500
TZNAME:EST
DTSTART:20261101T060000
END:STANDARD
END:VTIMEZONE
BEGIN:VEVENT
DTSTART;TZID=America/New_York:20250906T120000
DTEND;TZID=America/New_York:20250906T170000
DTSTAMP:20260421T123220
CREATED:20250409T134120Z
LAST-MODIFIED:20250409T214617Z
UID:16235-1757160000-1757178000@academy.kreationavenue.com
SUMMARY:The Project Peak Experience
DESCRIPTION:The Project Peak Experience\n\n    Date: September 6th\n    Time: 12:00 PM\n    Location: TBA\n   \nProject Peak is a live immersive experience for ages 11–18\, designed for future trailblazers\, instructors\, educators\, and visionary vendors. Step into a world where learning meets storytelling\, innovation\, and technology. \nJoin us as we kick off our first premium live event featuring the legendary story of Jimmy Daniels\, brought to life by Executive Director Sedric Simon using our groundbreaking Immersive Learning X format. This unique 3D sensory-deprivation experience blends education\, theater\, and technology into one unforgettable moment. \nAttendees will explore the future of learning through hands-on tech demos\, roleplaying\, food innovation experiences\, and storytelling that redefines education as we know it. \nSpecial Guests\nPresident DeAndre and Executive Director Sedric Simon will share powerful messages about purpose\, innovation\, and the future of learning. \nTickets\n\nStudents: $1 (Student ID required)\nTeachers: $5 (Teacher or School ID required)\n\n\n    Tickets go on sale soon!\n    Contact Academytix@kreationavenue.com for more information or partnership opportunities.
URL:https://academy.kreationavenue.com/event/the-project-peak-experience-2/
END:VEVENT
BEGIN:VEVENT
DTSTART;TZID=America/New_York:20250417T093000
DTEND;TZID=America/New_York:20250417T133000
DTSTAMP:20260421T123220
CREATED:20250409T192930Z
LAST-MODIFIED:20250409T214841Z
UID:16259-1744882200-1744896600@academy.kreationavenue.com
SUMMARY:Gentlemen’s Day: A Day of Male Empowerment
DESCRIPTION:Gentlemen’s Day: A Day of Male Empowerment\nHosted by Howell L. Watkins Middle School \nDate: Thursday\, April 17\, 2025Time: 9:00 AM – 1:30 PMLocation: Howell L. Watkins Middle School \nPurpose\nGentlemen’s Day is an empowering summit for young males in grades 6–8 designed to uplift\, inspire\, and equip them with tools for success. This experience focuses on building character\, confidence\, and clarity through mentorship\, leadership\, and real-life skill-building. \nKey Sessions\n\nLeadership & Personal Growth: Civic leadership\, decision-making\, and resilience\nCareer & Financial Literacy: Meet professionals\, budgeting\, saving\, and investing\nLife Skills: Dress for success\, public speaking\, etiquette\, grooming\, and hands-on skills\nHealth & Safety: Wellness\, hygiene\, conflict resolution\, and building trust with law enforcement\n\nSpecial Features\n\nKeynote by a Local Leader\nLive Role Model Panel & Q&A\nSkill Stations: Finance\, Tech\, Leadership\nFree Haircuts by Local Barbers\nSponsored Lunch + Swag Bag + Event T-Shirt\nEssay Contest & Gift Card Prize\nCertificate of Completion for All Participants\n\nSpecial Guests\nPresident DeAndre and Executive Director Sedric Simon will be speaking live at Watkins Middle School to inspire and empower our students. \nTickets\n\nStudents: $1 (Student ID required)\nTeachers: $5 (Teacher or School ID required)\n\nTickets go on sale soon!Contact Howell L. Watkins Middle School for more details.
URL:https://academy.kreationavenue.com/event/16259/
END:VEVENT
BEGIN:VEVENT
DTSTART;TZID=America/New_York:20250412T090000
DTEND;TZID=America/New_York:20250412T110000
DTSTAMP:20260421T123220
CREATED:20250409T231854Z
LAST-MODIFIED:20250409T232215Z
UID:16295-1744448400-1744455600@academy.kreationavenue.com
SUMMARY:Mini Golf For A Cause
DESCRIPTION:Family Fun That Transforms Lives!!!\n\n  Hosted by Cornerstone Companies \n  Date: Saturday\, April 12th\, 2025Time: 9:00 AM – 11:00 AMLocation: Lighthouse Cove Adventure Golf\, Abacoa \n\n  About the Event\n  Get ready for a morning of mini-golf and making an impact! We’re excited to invite you to our first-ever Mini-Golf For A Cause\, hosted by Cornerstone Companies to kick off our 23rd Annual Golf Tournament. It’s more than just a good time—it’s a chance to change lives through Urban Youth Impact. And the best part? It’s completely free! \n\n  Bring the whole family and enjoy fun\, games\, prizes\, and purpose. You’ll meet our amazing team and the youth we serve—all while supporting a powerful mission to love\, equip\, and empower inner-city youth. \n\n  RSVP\n  Click here to RSVP now \n\n  Support Urban Youth Impact\n  Urban Youth Impact is a community-supported organization\, and we invite you to be part of what God is doing through this ministry. Your support today helps love\, equip\, and empower a child to fulfill their God-given purpose. \n\n  Connect With Us\n  \n    Connect with us on Facebook\n    Follow us on Instagram\n    Watch us on YouTube\n    Visit UrbanYouthImpact.com\n  \n\n  Donate Now \n  To unsubscribe from future emails\, please contact info@urbanyouthimpact.com
URL:https://academy.kreationavenue.com/event/16295/
END:VEVENT
END:VCALENDAR